BEGIN:VCALENDAR
VERSION:2.0
PRODID:-//Psychoterapia. Rozwój osobisty - ECPv6.15.20//NONSGML v1.0//EN
CALSCALE:GREGORIAN
METHOD:PUBLISH
X-ORIGINAL-URL:https://sklep.kasiaczyz.com.pl
X-WR-CALDESC:Wydarzenia dla Psychoterapia. Rozwój osobisty
REFRESH-INTERVAL;VALUE=DURATION:PT1H
X-Robots-Tag:noindex
X-PUBLISHED-TTL:PT1H
BEGIN:VTIMEZONE
TZID:Europe/Warsaw
BEGIN:DAYLIGHT
TZOFFSETFROM:+0100
TZOFFSETTO:+0200
TZNAME:CEST
DTSTART:20180325T010000
END:DAYLIGHT
BEGIN:STANDARD
TZOFFSETFROM:+0200
TZOFFSETTO:+0100
TZNAME:CET
DTSTART:20181028T010000
END:STANDARD
BEGIN:DAYLIGHT
TZOFFSETFROM:+0100
TZOFFSETTO:+0200
TZNAME:CEST
DTSTART:20190331T010000
END:DAYLIGHT
BEGIN:STANDARD
TZOFFSETFROM:+0200
TZOFFSETTO:+0100
TZNAME:CET
DTSTART:20191027T010000
END:STANDARD
BEGIN:DAYLIGHT
TZOFFSETFROM:+0100
TZOFFSETTO:+0200
TZNAME:CEST
DTSTART:20200329T010000
END:DAYLIGHT
BEGIN:STANDARD
TZOFFSETFROM:+0200
TZOFFSETTO:+0100
TZNAME:CET
DTSTART:20201025T010000
END:STANDARD
BEGIN:DAYLIGHT
TZOFFSETFROM:+0100
TZOFFSETTO:+0200
TZNAME:CEST
DTSTART:20210328T010000
END:DAYLIGHT
BEGIN:STANDARD
TZOFFSETFROM:+0200
TZOFFSETTO:+0100
TZNAME:CET
DTSTART:20211031T010000
END:STANDARD
END:VTIMEZONE
BEGIN:VEVENT
DTSTART;TZID=Europe/Warsaw:20200223T160000
DTEND;TZID=Europe/Warsaw:20200223T190000
DTSTAMP:20260426T020905
CREATED:20200210T121740Z
LAST-MODIFIED:20200210T121740Z
UID:1164-1582473600-1582484400@sklep.kasiaczyz.com.pl
SUMMARY:Odkryj siebie- 2 bilety w promocyjnej cenie! Szczecin
DESCRIPTION:Zbliża się warsztat stworzony z myślą o kobietach w każdym wieku. \nMasz ochotę spędzić ten czas z Mamą\, Ciocią\, Przyjaciółką? \nNa wspólne wyjście przygotowałam 8 pakietów zawierających 2 bilety w okazyjnej cenie 99 zł (zamiast 118 zł)! \nSprzedaż startuje od 10 lutego i trwa: do wyczerpania zapasów lub do 14 lutego. \nPrzygotuj swoje ciało oraz umysł na nadejście wiosny\, odkryj swoje talenty\, uruchom pasje. \nCzas na Twoją realizację marzeń! \n  \nO czym będziemy rozmawiać? \nZ mojego doświadczenia wynika\, że ludzie wpadają w kołowrotek spełniania oczekiwań. Podejmują pracę która nie do końca zgodna jest z ich zasobami\, talentami i oczekiwaniami\, tkwią w związkach nie zawsze dla nich satysfakcjonujących. A do tego wszystkiego brak im zdrowego dystansu i balansu między życiem prywatnym a zawodowym i mają po prostu „wszystkiego dość”. \nZapraszam Cię na spotkanie podczas\, którego przekażę wiedzę w zakresie: \n– rodzajów osobowości człowieka\, \n– jego możliwości\, dopasowania zawodu (zależnego od typu osobowości)\, \n– dlaczego tak a nie inaczej kochamy\, myślimy i czujemy. \nNa warsztatach czeka na Ciebie garść wiedzy\, ćwiczeń pozwalających odkryć Twoje zasoby i odnaleźć talenty (pasje).  Pokażę Tobie jak poruszać się po polu motywacyjnym- a to wszystko po to\, byś mógł/a odkryć siebie: \n-zawodowo\, \n-relacyjnie\, \n-prywatnie. \nBo w życiu chodzi o to\, by nauczyć się tańczyć w deszczu 🙂 \n  \n—————————————————————- \nInformacje o prowadzącym – dr Katarzyna Niedzielska-Czyż \nDoktor nauk prawnych\, bachalor of german and polish law\, dyplomowany trener\, coach\, Master of Businees Administration. Łączę wiedzę i doświadczenie zdobytą jako prawnik\, członek rad nadzorczych\, doradca w biznesie z pasją do fascynacji człowiekiem. Liczne szkolenia\, sesje\, wykłady w Polsce jak i za granicą pozwalają na nietuzinkowe pobudzenie ludzi do refleksji w życiu zawodowym jak i osobistym. Ukończyłam wiele warsztatów z komunikacji\, asertywności\, z technik oddechowych jak i relaksacyjnych. Wykorzystując zdobyte dotychczas doświadczenia pracuję z ludźmi na wielu płaszczyznach tak aby mogli z większą łatwością wdrożyć\, zaakceptować proces zmiany i dążyć do rozwoju osobistego. Pasjonuję się jogą\, odkrywając ją nieustannie na nowo. Jestem osobą wychowaną z książką i na książkach. Ten kto mnie zna wie\, że książka jest moim nieodłącznym elementem w domu\, na uczelni\, szkoleniach\, podczas prowadzonych zajęć czy w podróży. Uwielbiam czytać\, ale i inspirować innych skonsumowaną lekturą. \n 
URL:https://sklep.kasiaczyz.com.pl/event/odkryj-siebie-2-bilety-w-promocyjnej-cenie-szczecin/
LOCATION:WSIE\, Mickiewicza 47\, Szczecin\, 70-385\, Polska
CATEGORIES:warsztat praktyczny
ATTACH;FMTTYPE=image/png:https://sklep.kasiaczyz.com.pl/wp-content/uploads/2020/02/ODKRYJ-SIEBIE.png
END:VEVENT
BEGIN:VEVENT
DTSTART;TZID=Europe/Warsaw:20191109T163000
DTEND;TZID=Europe/Warsaw:20191109T183000
DTSTAMP:20260426T020905
CREATED:20191008T074642Z
LAST-MODIFIED:20191008T074643Z
UID:534-1573317000-1573324200@sklep.kasiaczyz.com.pl
SUMMARY:Miej wyje..ane\, będzie Ci dane. O trudnej sztuce odpuszczania - Poznań
DESCRIPTION:W XXI wieku żyjemy szybciej\, chcemy więcej\, liczy się efektywność i efektowność. Pędzimy\, pędzimy nie wiadomo tak naprawdę za czym. \nPodobno za szczęściem i świętym spokojem? \nIdzie jesień i może czas zadać sobie pytanie? Jak poukładać swoje wyzwania\, cele? Jakie porządki chciałabym/chciałbym wprowadzić w swoim życiu? Czy naprawdę jest mi potrzebny taki pęd? A może odrobinę odpuścić i sprawdzić co by się tak naprawdę zmieniło\, gdybym nauczył/a się tej sztuki?🤔 \n👉Zapraszam na szkolenie\, pod niezwykle kontrowersyjnym tytułem „Miej wyjebane\, będzie Ci dane. O trudnej sztuce odpuszczania”. Znajdziesz tu dawkę inspiracji zaczerpniętą z:\n-mojego życiowego doświadczenia\,\n-przestawionej literatury dot. tematu zdystansowania (zarówno tzw. amerykańskiej\, jak i wschodniej). Dopełnieniem motywacji i dalszej inspiracji będzie zdobycie przez Ciebie doświadczenia z warsztatowych ćwiczeń. \nOd ponad 9 lat intensywnie interesuję się tym tematem\, obserwuje\, testuje narzędzia i metody. Podczas szkolenia przedstawiam nie tylko własne\, wypracowane i sprawdzone metody\, ale również i takie\, które mogą służyć tylko i wyłącznie Tobie. \nPodczas trzech godzin szkolenia podam esencję\, wiedzę i pomysły\, tak abyś po szkoleniu będziesz wiedział/a gdzie szukać dalej\, jaką literaturę wybrać\, gdzie zaczerpnąć dalszą wiedzę oraz jak trenować w sobie tą sztukę.👌 \nObiecywano nam w dzieciństwie.. „jak dorośniesz będziesz decydować o sobie..” . Teraz już jesteś dorosły/a\, a zatem pozwól sobie płynąć i korzystać z wyborów\, których sam dokonujesz. \nInformacje o prowadzącym – dr Katarzyna Niedzielska-Czyż \nDoktor nauk prawnych\, bachelor of German and Polish law\, dyplomowany trener\, coach\, Master of Business Administration. Łączę wiedzę i doświadczenie zdobytą jako prawnik\, członek rad nadzorczych\, doradca w biznesie z pasją do fascynacji człowiekiem. Liczne szkolenia\, sesje\, wykłady w Polsce jak i za granicą pozwalają na nietuzinkowe pobudzenie ludzi do refleksji w życiu zawodowym jak i osobistym. Ukończyłam wiele warsztatów z komunikacji\, asertywności\, z technik oddechowych jak i relaksacyjnych. Wykorzystując zdobyte dotychczas doświadczenia pracuję z ludźmi na wielu płaszczyznach tak aby mogli z większą łatwością wdrożyć\, zaakceptować proces zmiany i dążyć do rozwoju osobistego.  Pasjonuję się jogą\, odkrywając ją nieustannie na nowo.  Jestem osobą wychowaną z książką i na książkach. Ten kto mnie zna wie\, że książka jest moim nieodłącznym elementem w domu\, na uczelni\, szkoleniach\, podczas prowadzonych zajęć czy w podróży. Uwielbiam czytać\, ale i inspirować innych skonsumowaną lekturą.
URL:https://sklep.kasiaczyz.com.pl/event/miej-wyje-ane-bedzie-ci-dane-o-trudnej-sztuce-odpuszczania-poznan/
LOCATION:Poznań\, Polska
CATEGORIES:Szkolenia
ATTACH;FMTTYPE=image/jpeg:https://sklep.kasiaczyz.com.pl/wp-content/uploads/2019/10/szkolenie_poznan_sklep.jpg
ORGANIZER;CN="kasiaczyz.pl":MAILTO:kontakt@kasiaczyz.pl
END:VEVENT
END:VCALENDAR