BEGIN:VCALENDAR
VERSION:2.0
PRODID:-//Psychoterapia. Rozwój osobisty - ECPv6.15.20//NONSGML v1.0//EN
CALSCALE:GREGORIAN
METHOD:PUBLISH
X-WR-CALNAME:Psychoterapia. Rozwój osobisty
X-ORIGINAL-URL:https://sklep.kasiaczyz.com.pl
X-WR-CALDESC:Wydarzenia dla Psychoterapia. Rozwój osobisty
REFRESH-INTERVAL;VALUE=DURATION:PT1H
X-Robots-Tag:noindex
X-PUBLISHED-TTL:PT1H
BEGIN:VTIMEZONE
TZID:Europe/Warsaw
BEGIN:DAYLIGHT
TZOFFSETFROM:+0100
TZOFFSETTO:+0200
TZNAME:CEST
DTSTART:20180325T010000
END:DAYLIGHT
BEGIN:STANDARD
TZOFFSETFROM:+0200
TZOFFSETTO:+0100
TZNAME:CET
DTSTART:20181028T010000
END:STANDARD
BEGIN:DAYLIGHT
TZOFFSETFROM:+0100
TZOFFSETTO:+0200
TZNAME:CEST
DTSTART:20190331T010000
END:DAYLIGHT
BEGIN:STANDARD
TZOFFSETFROM:+0200
TZOFFSETTO:+0100
TZNAME:CET
DTSTART:20191027T010000
END:STANDARD
BEGIN:DAYLIGHT
TZOFFSETFROM:+0100
TZOFFSETTO:+0200
TZNAME:CEST
DTSTART:20200329T010000
END:DAYLIGHT
BEGIN:STANDARD
TZOFFSETFROM:+0200
TZOFFSETTO:+0100
TZNAME:CET
DTSTART:20201025T010000
END:STANDARD
END:VTIMEZONE
BEGIN:VEVENT
DTSTART;TZID=Europe/Warsaw:20191116T160000
DTEND;TZID=Europe/Warsaw:20191116T190000
DTSTAMP:20260425T231853
CREATED:20191019T093756Z
LAST-MODIFIED:20191019T201832Z
UID:685-1573920000-1573930800@sklep.kasiaczyz.com.pl
SUMMARY:Miej wyje..ne\, będzie ci dane- etap 2. "Ciało zna odpowiedź". Szczecin
DESCRIPTION:Miej wyje..ne\, będzie ci dane- etap 2:”Ciało zna odpowiedź”.\n\n\n \n\n\nSzkolenie zostało stworzone dla osób\, które:\n\n\n👉1. brały już udział w szkoleniu „Miej wyje..ane\, będzie Ci dane. O trudniej sztuce odpuszczania”\,\n\n\n👉2. czują\, że ciało odmawia im posłuszeństwa\,\n\n\n👉3. chcą przyjrzeć się\, poznać i pracować nad swoim ciałem w celu osiągnięcia balansu.\n\n\n \n\n\nPodczas warsztatów jest zdecydowanie mniej teorii a więcej praktyki\, treningu\, technik\, które posłużą do wykorzystania i zastosowania na co dzień. 🧘‍♀️🧘‍♂️\n\n\n \n\n\n🎯Ciało nam sygnalizuje: bóle głowy\, bóle pleców\, skurcze żołądka itd. Wszystko w nas mówi STOP – zatrzymaj się\, odpocznij\, zauważ mnie (ciało). Niejednokrotnie zdarza się\, że sięgamy po kolejną tabletkę przeciwbólową\, papierosa czy drinka…. \n\n\n \n\n\n🎯Szkolenie z technik oddychania\, technik relaksacyjnych oraz tzw. skanningu ciała daje nam jasną informację- CIAŁO ZNA ODPOWIEDŹ. Doskonale wiemy jakim poziomem energii dysponujemy\, kiedy czujemy się zmęczeni\, jakiego typu relacje nas męczą. To szkolenie to przede wszystkim czas na to\, żeby pooddychać\, świadomie pooddychać\, poznać tajniki i metody medytacji\, treningu autogennego Szultza czy treningu Jacobsona. Warsztaty to czas dla siebie samego – najcenniejszy dar jaki możemy sobie podarować.\n\n\n \n\n\nInwestycja w swój rozwój: 59 zł.\n\n\nZakup biletów możliwy przez stronę www.kasiaczyz.pl w zakładce sklep lub bezpośrednio przez link:\n\n\n \n\n\nhttps://sklep.kasiaczyz.pl/event/miej-wyje-ane-bedzie-ci-dane-o-trudnej-sztuce-odpuszczania-poznan/\n\n\n \n\n\nInformacje o prowadzącym – dr Katarzyna Niedzielska-Czyż\n\n\n \n\n\nDoktor nauk prawnych\, bachalor of german and polish law\, dyplomowany trener\, coach\, Master of Businees Administration. Łączę wiedzę i doświadczenie zdobytą jako prawnik\, członek rad nadzorczych\, doradca w biznesie z pasją do fascynacji człowiekiem. Liczne szkolenia\, sesje\, wykłady w Polsce jak i za granicą pozwalają na nietuzinkowe pobudzenie ludzi do refleksji w życiu zawodowym jak i osobistym. Ukończyłam wiele warsztatów z komunikacji\, asertywności\, z technik oddechowych jak i relaksacyjnych. Wykorzystując zdobyte dotychczas doświadczenia pracuję z ludźmi na wielu płaszczyznach tak aby mogli z większą łatwością wdrożyć\, zaakceptować proces zmiany i dążyć do rozwoju osobistego. Pasjonuję się jogą\, odkrywając ją nieustannie na nowo. Jestem osobą wychowaną z książką i na książkach. Ten kto mnie zna wie\, że książka jest moim nieodłącznym elementem w domu\, na uczelni\, szkoleniach\, podczas prowadzonych zajęć czy w podróży. Uwielbiam czytać\, ale i inspirować innych skonsumowaną lekturą.\n\n\n \n\n\nZapraszam
URL:https://sklep.kasiaczyz.com.pl/event/miej-wyje-ne-bedzie-ci-dane-etap-2-cialo-zna-odpowiedz-szczecin/
LOCATION:WSIE\, Mickiewicza 47\, Szczecin\, 70-385\, Polska
CATEGORIES:Szkolenia
ATTACH;FMTTYPE=image/jpeg:https://sklep.kasiaczyz.com.pl/wp-content/uploads/2019/10/plansza-szkolenie_-ciało.jpg
ORGANIZER;CN="kasiaczyz.pl":MAILTO:kontakt@kasiaczyz.pl
END:VEVENT
END:VCALENDAR